BEGIN:VCALENDAR
VERSION:2.0
METHOD:PUBLISH
CALSCALE:GREGORIAN
PRODID:-//WordPress - MECv7.31.0//EN
X-ORIGINAL-URL:https://983thelife.com/
X-WR-CALNAME:98.3 Life FM
X-WR-CALDESC:The Soundtrack of Your Life
X-WR-TIMEZONE:America/Chicago
BEGIN:VTIMEZONE
TZID:America/Chicago
X-LIC-LOCATION:America/Chicago
BEGIN:DAYLIGHT
TZOFFSETFROM:-0600
TZOFFSETTO:-0500
TZNAME:CDT
DTSTART:20260308T030000
RRULE:FREQ=YEARLY;BYMONTH=03;BYDAY=2SU
END:DAYLIGHT
BEGIN:STANDARD
TZOFFSETFROM:-0500
TZOFFSETTO:-0600
TZNAME:CST
DTSTART:20261101T010000
RRULE:FREQ=YEARLY;BYMONTH=11;BYDAY=1SU
END:STANDARD
END:VTIMEZONE
REFRESH-INTERVAL;VALUE=DURATION:PT1H
X-PUBLISHED-TTL:PT1H
X-MS-OLK-FORCEINSPECTOROPEN:TRUE
BEGIN:VEVENT
CLASS:PUBLIC
UID:MEC-ae66880d9336a9fde9ec34472f49f397@983thelife.com
DTSTART;TZID=America/Chicago:20260226T190000
DTEND;TZID=America/Chicago:20260226T200000
DTSTAMP:20260222T140712Z
RRULE:FREQ=WEEKLY
CREATED:20260222
LAST-MODIFIED:20260222
PRIORITY:5
SEQUENCE:1
TRANSP:OPAQUE
SUMMARY:The Bus Stop Blues: A Chapter in the History of the Blues
DESCRIPTION:\n			\n		\n			\n				\n				\n				\n				\n				\n				\n				\n				\n				\n				\n				\n				\n				\n				\n				\n				\n				\n				Bus Stop Blues\n			\n				\n				\n				\n				\n				A radio show from blues/music lovers with a good dose of laughs and life stories. Bill and Kevin have been discussing the possibility of a radio show for years, and when the opportunity presented itself, they jumped on the bus!\nSo climb aboard as they head down a road on a journey listening to the music that started it all, with songs from the legends, songs from their own catalogs, stories from the road, interviews with local stars, and of course the zany dialogue of two guys who love to laugh and celebrate life.\n			\n			\n				\n				\n				\n				\n			\n				\n				\n					\n	\n	\n			\n		\n		
URL:https://983thelife.com/events/the-bus-stop-blues-a-chapter-in-the-history-of-the-blues107/
CATEGORIES:Blues,Music,Talk
ATTACH;FMTTYPE=image/jpeg:https://983thelife.com/wp-content/uploads/2025/02/Bus-Stop-Blues-Logo.jpg
END:VEVENT
BEGIN:VEVENT
CLASS:PUBLIC
UID:MEC-32246528250400f99a5fad238bc73d7c@983thelife.com
DTSTART;TZID=America/Chicago:20260224T190000
DTEND;TZID=America/Chicago:20260224T200000
DTSTAMP:20260222T135716Z
RRULE:FREQ=WEEKLY
CREATED:20260222
LAST-MODIFIED:20260222
PRIORITY:5
SEQUENCE:39
TRANSP:OPAQUE
SUMMARY:The Bus Stop Blues: Music Show
DESCRIPTION:\n			\n		\n			\n				\n				\n				\n				\n				\n				\n				\n				\n				\n				\n				\n				\n				\n				\n				\n				\n				\n				Bus Stop Blues\n			\n				\n				\n				\n				\n				A radio show from blues/music lovers with a good dose of laughs and life stories. Bill and Kevin have been discussing the possibility of a radio show for years, and when the opportunity presented itself, they jumped on the bus!\nSo climb aboard as they head down a road on a journey listening to the music that started it all, with songs from the legends, songs from their own catalogs, stories from the road, interviews with local stars, and of course the zany dialogue of two guys who love to laugh and celebrate life.\n			\n			\n				\n				\n				\n				\n			\n				\n				\n					\n	\n	\n			\n		\n		
URL:https://983thelife.com/events/the-bus-stop-blues-music-show107/
CATEGORIES:Blues,Music,Talk
ATTACH;FMTTYPE=image/jpeg:https://983thelife.com/wp-content/uploads/2025/02/Bus-Stop-Blues-Logo.jpg
END:VEVENT
BEGIN:VEVENT
CLASS:PUBLIC
UID:MEC-26a14b14ad161a9f55753788cf0696fa@983thelife.com
DTSTART;TZID=America/Chicago:20250202T190000
DTEND;TZID=America/Chicago:20250202T210000
DTSTAMP:20250201T123307Z
RRULE:FREQ=WEEKLY
CREATED:20250201
LAST-MODIFIED:20260123
PRIORITY:5
SEQUENCE:38
TRANSP:OPAQUE
SUMMARY:The Bus Stop Blues
DESCRIPTION:\n			\n		\n			\n				\n				\n				\n				\n				\n				\n				\n				\n				\n				\n				\n				\n				\n				\n				\n				\n				\n				Bus Stop Blues\n			\n				\n				\n				\n				\n				A radio show from blues/music lovers with a good dose of laughs and life stories. Bill and Kevin have been discussing the possibility of a radio show for years, and when the opportunity presented itself, they jumped on the bus!\nSo climb aboard as they head down a road on a journey listening to the music that started it all, with songs from the legends, songs from their own catalogs, stories from the road, interviews with local stars, and of course the zany dialogue of two guys who love to laugh and celebrate life.\n			\n			\n				\n				\n				\n				\n			\n				\n				\n					\n	\n	\n			\n		\n		
URL:https://983thelife.com/events/the-bus-stop-blues/
CATEGORIES:Blues,Music,Talk
ATTACH;FMTTYPE=image/jpeg:https://983thelife.com/wp-content/uploads/2025/02/Bus-Stop-Blues-Logo.jpg
END:VEVENT
BEGIN:VEVENT
CLASS:PUBLIC
UID:MEC-5bfc2953354970625583af863c4c75d6@983thelife.com
DTSTART;TZID=America/Chicago:20240218T170000
DTEND;TZID=America/Chicago:20240218T190000
DTSTAMP:20240507T152338Z
RRULE:FREQ=WEEKLY
CREATED:20240507
LAST-MODIFIED:20240507
PRIORITY:5
SEQUENCE:26
TRANSP:OPAQUE
SUMMARY:Hot Air Weather
DESCRIPTION:\n			\n		\n			\n				\n				\n				\n				\n				\n				\n				\n				\n				\n				\n				\n				\n				\n				\n				\n				\n				\n				Words of Weather\n			\n				\n				\n				\n				\n				The Hot Air Weather show is all about our climate, weather, and meteorology. Join discussions about weather, forecast models, and the impact of weather conditions upon our daily lives. \n			\n			\n				\n				\n				\n				\n			\n				\n				\n					\n	\n	\n			\n		\n		
URL:https://983thelife.com/events/hot-air-weather/
CATEGORIES:News,Talk
ATTACH;FMTTYPE=image/jpeg:https://983thelife.com/wp-content/uploads/2024/05/Hot-Air-Weather-Hurricane-Header-1920-x-10801.jpg
END:VEVENT
BEGIN:VEVENT
CLASS:PUBLIC
UID:MEC-cdf8409b144363d5b947ad017f521320@983thelife.com
DTSTART;TZID=America/Chicago:20240218T160000
DTEND;TZID=America/Chicago:20240218T170000
DTSTAMP:20240507T125743Z
RRULE:FREQ=WEEKLY
CREATED:20240507
LAST-MODIFIED:20240507
PRIORITY:5
SEQUENCE:25
TRANSP:OPAQUE
SUMMARY:Travel with Rick Steves
DESCRIPTION:\n			\n		\n			\n				\n				\n				\n				\n				\n				\n				\n				\n				\n				\n				\n				\n				\n				\n				\n				\n				\n				Travel And Cultures\n			\n				\n				\n				\n				\n				Rick Steves is a popular public television host, a best-selling guidebook author, and an outspoken activist who encourages Americans to broaden their perspectives through travel. He is the founder and owner of Rick Steves’ Europe, a travel business with a tour program that brings more than 30,000 people to Europe annually. Rick lives and works in his hometown of Edmonds, Washington, where his office window overlooks his old junior high school.\n			\n			\n				\n				\n				\n				\n			\n				\n				\n					\n	\n	\n			\n		\n		
URL:https://983thelife.com/events/travel-with-rick-steves/
CATEGORIES:Talk
ATTACH;FMTTYPE=image/jpeg:https://983thelife.com/wp-content/uploads/2024/05/Rick-Steves-1920-x-10801.jpg
END:VEVENT
BEGIN:VEVENT
CLASS:PUBLIC
UID:MEC-76247133f8f81c68585626365cc9e3f2@983thelife.com
DTSTART;TZID=America/Chicago:20240218T110000
DTEND;TZID=America/Chicago:20240218T130000
DTSTAMP:20240507T125259Z
RRULE:FREQ=WEEKLY
CREATED:20240507
LAST-MODIFIED:20240507
PRIORITY:5
SEQUENCE:24
TRANSP:OPAQUE
SUMMARY:Mood Swings
DESCRIPTION:\n			\n		\n			\n				\n				\n				\n				\n				\n				\n				\n				\n				\n				\n				\n				\n				\n				\n				\n				\n				\n				Mood Swings\n			\n				\n				\n				\n				\n				Mood Swings\n			\n			\n				\n				\n				\n				\n			\n				\n				\n					\n	\n	\n			\n		\n		
URL:https://983thelife.com/events/mood-swings/
CATEGORIES:Easy Listening,Music,R&amp;B
ATTACH;FMTTYPE=image/jpeg:https://983thelife.com/wp-content/uploads/2024/05/pexels-plato-terentev-3804555-5909956.jpg
END:VEVENT
BEGIN:VEVENT
CLASS:PUBLIC
UID:MEC-b7383861e89c0b3a716f18bcc6127c0a@983thelife.com
DTSTART;TZID=America/Chicago:20240217T100000
DTEND;TZID=America/Chicago:20240217T130000
DTSTAMP:20240506T134512Z
RRULE:FREQ=WEEKLY
CREATED:20240506
LAST-MODIFIED:20240506
PRIORITY:5
SEQUENCE:21
TRANSP:OPAQUE
SUMMARY:The New Show
DESCRIPTION:\n			\n		\n			\n				\n				\n				\n				\n				\n				\n				\n				\n				\n				\n				\n				\n				\n				\n				\n				\n				\n				Time For Some Rock In Your Life!\n			\n				\n				\n				\n				\n				Tired of listening to the same overplayed songs on the radio? Do you enjoy a heavier rock sound with big guitar solos? Need some new rock music in your life?\nThen check out The New Show with Chase & Z-Dog for your fix! We are passionate about new music, and don’t follow the typical corporate radio playlists. We play all the best new rock, metal, and alternative tracks from your favorite rock stars and legends, while also featuring some of newest and hottest artists from today. If that’s not enough, we’ll harken back to the good old days and play the biggest hits and the deepest cuts to keep you rockin.’ \nIf it’s new and it rocks, we play it!\n			\n			\n				\n				\n				\n				\n			\n				\n				\n					\n	\n	\n			\n		\n		
URL:https://983thelife.com/events/the-new-show/
CATEGORIES:Music,Rock and Roll
ATTACH;FMTTYPE=image/jpeg:https://983thelife.com/wp-content/uploads/2024/05/pexels-andy-pinaria-132132434-10518430.jpg
END:VEVENT
BEGIN:VEVENT
CLASS:PUBLIC
UID:MEC-ffbca00a190859d66ea08c322e3573a8@983thelife.com
DTSTART;TZID=America/Chicago:20240217T080000
DTEND;TZID=America/Chicago:20240217T100000
DTSTAMP:20240506T134018Z
RRULE:FREQ=WEEKLY
CREATED:20240506
LAST-MODIFIED:20240506
PRIORITY:5
SEQUENCE:20
TRANSP:OPAQUE
SUMMARY:Sports Corner
DESCRIPTION:\n			\n		\n			\n				\n				\n				\n				\n				\n				\n				\n				\n				\n				\n				\n				\n				\n				\n				\n				\n				\n				Sports talk With Our Views!\n			\n				\n				\n				\n				\n				Make us your home for conversations of national sports to local Chicagoland sports. We also look at high school sports throughout the entire school year. It’s in-depth coverage of all sports – with our views!\n			\n			\n				\n				\n				\n				\n			\n				\n				\n					\n	\n	\n			\n		\n		
URL:https://983thelife.com/events/sports-corner/
CATEGORIES:Local,Sports,Talk
ATTACH;FMTTYPE=image/jpeg:https://983thelife.com/wp-content/uploads/2024/04/Sports-image-1920-x-10801.jpg
END:VEVENT
BEGIN:VEVENT
CLASS:PUBLIC
UID:MEC-87b22a617c424b91b4ded4548cbd6710@983thelife.com
DTSTART;TZID=America/Chicago:20240216T160000
DTEND;TZID=America/Chicago:20240216T180000
DTSTAMP:20240506T132814Z
RRULE:FREQ=WEEKLY
CREATED:20240506
LAST-MODIFIED:20240506
PRIORITY:5
SEQUENCE:34
TRANSP:OPAQUE
SUMMARY:Ear Candy Emporium
DESCRIPTION:\n			\n		\n			\n				\n				\n				\n				\n				\n				\n				\n				\n				\n				\n				\n				\n				\n				\n				\n				\n				\n				Home of Sweet Musical Treats\n			\n				\n				\n				\n				\n				Ron’s philosophy is that no single genre has a lock on great music. At Ear Candy Emporium, you will experience a broad musical palette – R & B, Pop, Rock, Jazz, Country – you name it! Come sample some Sweet Musical Treats!\n			\n			\n				\n				\n				\n				\n			\n				\n				\n					\n	\n	\n			\n		\n		
URL:https://983thelife.com/events/ear-candy-emporium/
CATEGORIES:Music
ATTACH;FMTTYPE=image/jpeg:https://983thelife.com/wp-content/uploads/2024/05/Ear-Candy-Emporium-Flyer.jpg-Web-Graphic-1920-x-10801.jpg
END:VEVENT
BEGIN:VEVENT
CLASS:PUBLIC
UID:MEC-cc68c8d98db1f69b53c5b0d312d5a812@983thelife.com
DTSTART;TZID=America/Chicago:20240216T120000
DTEND;TZID=America/Chicago:20240216T140000
DTSTAMP:20240506T124512Z
RRULE:FREQ=WEEKLY
CREATED:20240506
LAST-MODIFIED:20250201
PRIORITY:5
SEQUENCE:31
TRANSP:OPAQUE
SUMMARY:This Rock Has To Roll
DESCRIPTION:\n				\n				\n				\n				\n				\n				\n				\n				\n				\n				\n				\n				\n				\n				\n				\n				\n				\n				This Rock Has To Roll\n			\n				\n				\n				\n				\n				This Rock Has To Roll with Cliff Sayers\n			\n			\n				\n				\n				\n				\n			\n				\n				\n			\n
URL:https://983thelife.com/events/this-rock-has-to-roll/
CATEGORIES:Music,Rock and Roll
ATTACH;FMTTYPE=image/jpeg:https://983thelife.com/wp-content/uploads/2024/05/pexels-andy-pinaria-132132434-10518430.jpg
END:VEVENT
BEGIN:VEVENT
CLASS:PUBLIC
UID:MEC-55a83d13f2b3e8e2f5e74ee7854f8c79@983thelife.com
DTSTART;TZID=America/Chicago:20240215T110000
DTEND;TZID=America/Chicago:20240215T120000
DTSTAMP:20240503T143918Z
RRULE:FREQ=WEEKLY
CREATED:20240503
LAST-MODIFIED:20240503
PRIORITY:5
SEQUENCE:31
TRANSP:OPAQUE
SUMMARY:Word of Mouth
DESCRIPTION:\n			\n		\n			\n				\n				\n				\n				\n				\n				\n				\n				\n				\n				\n				\n				\n				\n				\n				\n				\n				\n				Intriguing Guests\n			\n				\n				\n				\n				\n				Welcome to Word of Mouth, a live weekly radio show. Host Jim Wunderlich ( https://wordofmouthfmradio.com/jim-wunderlich/ ) chats with captivating guests from a wide range of professions exploring topics of interest in history, government, pop culture, science, sports, entertainment, religion, the arts, and other subject matter. Guests tell their story so listeners know what it’s like to walk in their shoes.\n			\n			\n				\n				\n				\n				\n			\n				\n				\n					\n	\n	\n			\n		\n		
URL:https://983thelife.com/events/word-of-mouth/
CATEGORIES:Talk
ATTACH;FMTTYPE=image/jpeg:https://983thelife.com/wp-content/uploads/2024/05/Word-of-Mouth-1920-x-10801.jpg
END:VEVENT
BEGIN:VEVENT
CLASS:PUBLIC
UID:MEC-ddf37b7544350f56865e7e4dbadcc5fb@983thelife.com
DTSTART;TZID=America/Chicago:20240216T090000
DTEND;TZID=America/Chicago:20240216T120000
DTSTAMP:20240503T124818Z
RRULE:FREQ=WEEKLY
CREATED:20240503
LAST-MODIFIED:20240503
PRIORITY:5
SEQUENCE:28
TRANSP:OPAQUE
SUMMARY:Yesterday Once More
DESCRIPTION:\n			\n		\n			\n				\n				\n				\n				\n				\n				\n				\n				\n				\n				\n				\n				\n				\n				\n				\n				\n				\n				A Musical Stroll Through Days Gone By\n			\n				\n				\n				\n				\n				Join Stan Konik as he plays music from the 1950’s through the 1970’s. It’s the beautiful romantic music that you strolled and twisted to, fell in love to, and played on your transistor radio. Best of all, we take ALL requests!\n			\n			\n				\n				\n				\n				\n			\n				\n				\n					\n	\n	\n			\n		\n		
URL:https://983thelife.com/events/yesterday-once-more-friday/
CATEGORIES:Music,Oldies
ATTACH;FMTTYPE=image/jpeg:https://983thelife.com/wp-content/uploads/2024/05/yesterday-once-more1.jpg
END:VEVENT
BEGIN:VEVENT
CLASS:PUBLIC
UID:MEC-86079d6401303c584ecd0ee68a3b9974@983thelife.com
DTSTART;TZID=America/Chicago:20240215T090000
DTEND;TZID=America/Chicago:20240215T110000
DTSTAMP:20240503T124638Z
RRULE:FREQ=WEEKLY
CREATED:20240503
LAST-MODIFIED:20240503
PRIORITY:5
SEQUENCE:27
TRANSP:OPAQUE
SUMMARY:Yesterday Once More
DESCRIPTION:\n				\n				\n				\n				\n				\n				\n				\n				\n				\n				\n				\n				\n				\n				\n				\n				\n				\n				A Musical Stroll Through Days Gone By\n			\n				\n				\n				\n				\n				Join Stan Konik as he plays music from the 1950’s through the 1970’s. It’s the beautiful romantic music that you strolled and twisted to, fell in love to, and played on your transistor radio. Best of all, we take ALL requests!\n			\n			\n				\n				\n				\n				\n			\n				\n				\n			\n
URL:https://983thelife.com/events/yesterday-once-more-thursday/
CATEGORIES:Music,Oldies
ATTACH;FMTTYPE=image/jpeg:https://983thelife.com/wp-content/uploads/2024/05/yesterday-once-more1.jpg
END:VEVENT
BEGIN:VEVENT
CLASS:PUBLIC
UID:MEC-de87bc296d76cecf6f17e3214ed419a0@983thelife.com
DTSTART;TZID=America/Chicago:20240214T160000
DTEND;TZID=America/Chicago:20240214T190000
DTSTAMP:20240503T122752Z
RRULE:FREQ=WEEKLY
CREATED:20240503
LAST-MODIFIED:20260226
PRIORITY:5
SEQUENCE:25
TRANSP:OPAQUE
SUMMARY:Soul Suite
DESCRIPTION:\n			\n		\n			\n				\n				\n				\n				\n				\n				\n				\n				\n				\n				\n				\n				\n				\n				\n				\n				\n				\n				Soul Suite\n			\n				\n				\n				\n				\n				Soul Suite\n			\n			\n				\n				\n				\n				\n			\n				\n				\n					\n	\n	\n			\n		\n		
URL:https://983thelife.com/events/soul-suite/
CATEGORIES:Gospel/Religious,Music,R&amp;B
ATTACH;FMTTYPE=image/jpeg:https://983thelife.com/wp-content/uploads/2024/05/Soul-Suite-Gospel1.jpg
END:VEVENT
BEGIN:VEVENT
CLASS:PUBLIC
UID:MEC-41df6bee1035079cc7f50283d12a947b@983thelife.com
DTSTART;TZID=America/Chicago:20240212T100000
DTEND;TZID=America/Chicago:20240212T110000
DTSTAMP:20240501T150516Z
RRULE:FREQ=WEEKLY
CREATED:20240501
LAST-MODIFIED:20240501
PRIORITY:5
SEQUENCE:1
TRANSP:OPAQUE
SUMMARY:The Children’s Hour – Kids Public Radio
DESCRIPTION:\n			\n		\n			\n				\n				\n				\n				\n				\n				\n				\n				\n				\n				\n				\n				\n				\n				\n				\n				\n				\n				Learn Something New With Us Every Week!\n			\n				\n				\n				\n				\n				The Children’s Hour Inc is a New Mexico based non-profit organization that creates broadcast media that is educational, entertaining, and engaging, and also includes kids who participate in its creation. We produce and distribute high-quality children’s media, that’s cultivated through community involvement and immersion. Our award-winning kids’ public radio program can be heard on public radio stations across the United States and Canada!\n			\n			\n				\n				\n				\n				\n			\n				\n				\n					\n	\n	\n			\n		\n		
URL:https://983thelife.com/events/the-childrens-hour/
CATEGORIES:Children
ATTACH;FMTTYPE=image/jpeg:https://983thelife.com/wp-content/uploads/2024/04/Bright-idea-1920-x-10801.jpg
END:VEVENT
BEGIN:VEVENT
CLASS:PUBLIC
UID:MEC-9b30a3ea337bd0d166ab596e23425513@983thelife.com
DTSTART;TZID=America/Chicago:20240213T190000
DTEND;TZID=America/Chicago:20240213T200000
DTSTAMP:20240409T153620Z
RRULE:FREQ=WEEKLY
CREATED:20240409
LAST-MODIFIED:20240409
PRIORITY:5
SEQUENCE:17
TRANSP:OPAQUE
SUMMARY:Information Explorers
DESCRIPTION:\n			\n		\n			\n				\n				\n				\n				\n				\n				\n				\n				\n				\n				\n				\n				\n				\n				\n				\n				\n				\n				Leadership Qualities – Examined and Expanded!\n			\n				\n				\n				\n				\n				Each week, Bob Slipke finds off-beat topics to discuss with a humorous slant.  Bob has an improv background and he has been a radio personality for over 10 years.  The topics he covers includes top 10 lists, health, relationships, work life, motivation, communication, aging, family life and more!  Bob gives you something to think about while making you laugh. Tune in, relax, learn something and laugh!\n			\n			\n				\n				\n				\n				\n			\n				\n				\n					\n	\n	\n			\n		\n		
URL:https://983thelife.com/events/information-explorers/
CATEGORIES:DIY,Talk
ATTACH;FMTTYPE=image/jpeg:https://983thelife.com/wp-content/uploads/2024/04/Bright-idea-1920-x-10801.jpg
END:VEVENT
BEGIN:VEVENT
CLASS:PUBLIC
UID:MEC-a19389a36fd697a5c979cc2e780a81d7@983thelife.com
DTSTART;TZID=America/Chicago:20240213T180000
DTEND;TZID=America/Chicago:20240213T190000
DTSTAMP:20240409T152300Z
RRULE:FREQ=WEEKLY
CREATED:20240409
LAST-MODIFIED:20240507
PRIORITY:5
SEQUENCE:16
TRANSP:OPAQUE
SUMMARY:ImprovLeadership
DESCRIPTION:\n			\n		\n			\n				\n				\n				\n				\n				\n				\n				\n				\n				\n				\n				\n				\n				\n				\n				\n				\n				\n				Leadership Qualities – Examined and Expanded!\n			\n				\n				\n				\n				\n				Ted Schneider fashioned the ImprovLeadership program to be a resource for those seeking a better understanding of the meaning of leadership in both business and personal endeavors.\nImprovLeadership provides genuine news you can use. The program is motivational, informative, and strives to remain currently relevant. The ImprovLeadership radio show is an extension of the weekly blog of the same name, that Ted has been piloting since December 2004. Ted Schneider’s background includes business leadership positions for over 42 years at several Fortune 500 corporations. As for the humorous aspect of his information, Ted completed improv and theatre training at the Players Workshop of Second City and has performed volunteer emcee and live auctioneer duties at various charity events.\nTune in to ImprovLeadership – you just might find some valuable insight and advice!\n			\n			\n				\n				\n				\n				\n			\n				\n				\n					\n	\n	\n			\n		\n		
URL:https://983thelife.com/events/improvleadership/
CATEGORIES:DIY,Talk
ATTACH;FMTTYPE=image/jpeg:https://983thelife.com/wp-content/uploads/2024/04/ImprovLeadership-Banner-1920-x-10801.jpg
END:VEVENT
BEGIN:VEVENT
CLASS:PUBLIC
UID:MEC-83882e29123c765abc0a1bf8914ee74a@983thelife.com
DTSTART;TZID=America/Chicago:20240212T190000
DTEND;TZID=America/Chicago:20240212T200000
DTSTAMP:20240404T133608Z
RRULE:FREQ=WEEKLY
CREATED:20240404
LAST-MODIFIED:20240506
PRIORITY:5
SEQUENCE:22
TRANSP:OPAQUE
SUMMARY:BACON Bits
DESCRIPTION:[et_pb_section fb_built=”1″ admin_label=”section” _builder_version=”4.23.1″ custom_margin=”||||false|false” custom_padding=”||||false|false” global_colors_info=”{}”][et_pb_row admin_label=”row” module_class=”valign-center” _builder_version=”4.23.1″ background_size=”initial” background_position=”top_left” background_repeat=”repeat” custom_margin=”|0px||0px|false|false” custom_padding=”0px||||false|false” global_colors_info=”{}”][et_pb_column type=”4_4″ _builder_version=”4.16″ custom_padding=”|||” global_colors_info=”{}” custom_padding__hover=”|||”][et_pb_text _builder_version=”4.24.0″ _module_preset=”default” header_2_font=”|700|||||||” header_2_font_size=”54px” global_colors_info=”{}”]\nMaster Happiness!\n[/et_pb_text][et_pb_text admin_label=”Text” _builder_version=”4.24.0″ background_size=”initial” background_position=”top_left” background_repeat=”repeat” global_colors_info=”{}”]  “BACON BITS” with Marty Jalove and Tiffany is all about helping you find your paths of Happiness!\nB – Believe in yourself\nA – Anticipate Obstacles\nC – Confront your Fears\nO – Observe and Learn!\nN – Nudge others to do the same!\nSometimes we get burned by the negativity of the world around us. We find ourselves surrounded by harmful emotions that can lead to depression, anxiety, and can start affecting all aspects of our lives. The Paths of Happiness aren’t always easy. But they can be roads paved with optimism, gratitude, humility, and a few more ideas that we’d love to share with you. \nLet’s help each other create lives that SIZZLE![/et_pb_text][/et_pb_column][/et_pb_row][/et_pb_section]\n
URL:https://983thelife.com/events/bacon-bits/
CATEGORIES:DIY,Talk
ATTACH;FMTTYPE=image/jpeg:https://983thelife.com/wp-content/uploads/2024/04/Bacon-Bits-Banner-1920-x-10801.jpg
END:VEVENT
BEGIN:VEVENT
CLASS:PUBLIC
UID:MEC-ee78d4bda8637ce1ce263db7a174309d@983thelife.com
DTSTART;TZID=America/Chicago:20240212T180000
DTEND;TZID=America/Chicago:20240212T190000
DTSTAMP:20240404T131004Z
RRULE:FREQ=WEEKLY
CREATED:20240404
LAST-MODIFIED:20240506
PRIORITY:5
SEQUENCE:21
TRANSP:OPAQUE
SUMMARY:The Big Show
DESCRIPTION:\n			\n		\n			\n				\n				\n				\n				\n				\n				\n				\n				\n				\n				\n				\n				\n				\n				\n				\n				\n				\n				Local Focus, VIP Guests\n			\n				\n				\n				\n				\n				The Big Show covers a wide variety of topics – education, politics, health, finance – you name it. While national issues and breaking news are covered, the true focus is local. Local people, local businesses, local organizations, local communities, and neighborhoods. Our spectrum of guests includes area elected officials, educators, business owners, entertainers, and community volunteers. Tune in to The Big Show – you never know who you’re gonna meet!\n			\n			\n				\n				\n				\n				\n			\n				\n				\n					\n	\n	\n			\n		\n		
URL:https://983thelife.com/events/the-big-show/
CATEGORIES:News,Talk
ATTACH;FMTTYPE=image/jpeg:https://983thelife.com/wp-content/uploads/2024/04/The-Big-Show-1920-x-10801.jpg
END:VEVENT
BEGIN:VEVENT
CLASS:PUBLIC
UID:MEC-50ff72d9c479589dcb4cf9d005682d6e@983thelife.com
DTSTART;TZID=America/Chicago:20240212T170000
DTEND;TZID=America/Chicago:20240212T180000
DTSTAMP:20240404T121451Z
RRULE:FREQ=WEEKLY
CREATED:20240404
LAST-MODIFIED:20240404
PRIORITY:5
SEQUENCE:14
TRANSP:OPAQUE
SUMMARY:Lake County Sports Scoop
DESCRIPTION:[et_pb_section fb_built=”1″ admin_label=”section” _builder_version=”4.23.1″ custom_margin=”||||false|false” custom_padding=”||||false|false” global_colors_info=”{}”][et_pb_row admin_label=”row” module_class=”valign-center” _builder_version=”4.23.1″ background_size=”initial” background_position=”top_left” background_repeat=”repeat” custom_margin=”|0px||0px|false|false” custom_padding=”0px||||false|false” global_colors_info=”{}”][et_pb_column type=”4_4″ _builder_version=”4.16″ custom_padding=”|||” global_colors_info=”{}” custom_padding__hover=”|||”][et_pb_text _builder_version=”4.24.0″ _module_preset=”default” header_2_font=”|700|||||||” header_2_font_size=”54px” global_colors_info=”{}”]\nFocus on Lake County Sports\n[/et_pb_text][et_pb_text admin_label=”Text” _builder_version=”4.24.0″ background_size=”initial” background_position=”top_left” background_repeat=”repeat” global_colors_info=”{}”]Carson Beck and Fidel Garcia break down the latest in Lake County Sports. They tackle the week’s top stories, and interview area athletes, coaches and others.[/et_pb_text][/et_pb_column][/et_pb_row][/et_pb_section]\n
URL:https://983thelife.com/events/lake-county-sports-scoop/
CATEGORIES:Sports,Talk
ATTACH;FMTTYPE=image/jpeg:https://983thelife.com/wp-content/uploads/2024/04/Sports-image-1920-x-10801.jpg
END:VEVENT
BEGIN:VEVENT
CLASS:PUBLIC
UID:MEC-8efb837452e519d445c1ec7ff7b75399@983thelife.com
DTSTART;TZID=America/Chicago:20240212T130000
DTEND;TZID=America/Chicago:20240212T150000
DTSTAMP:20240403T132335Z
RRULE:FREQ=WEEKLY
CREATED:20240403
LAST-MODIFIED:20240506
PRIORITY:5
SEQUENCE:15
TRANSP:OPAQUE
SUMMARY:Doo Wop Show
DESCRIPTION:\n				\n				\n				\n				\n				\n				\n				\n				\n				\n				\n				\n				\n				\n				\n				\n				\n				\n				When Doo Wop Was King!\n			\n				\n				\n				\n				\n				Doo Wop is truly a genuine American art form. Mark Shanahan and his Doo Wop Show transports us back to a simpler, musically colorful time. Relive the days of drive-in movies, prom nights, sock hops, and rich street corner harmonies!\n			\n			\n				\n				\n				\n				\n			\n				\n				\n			\n
URL:https://983thelife.com/events/doo-wop-show/
CATEGORIES:Music,R&amp;B,Rock and Roll
ATTACH;FMTTYPE=image/jpeg:https://983thelife.com/wp-content/uploads/2024/04/Doo-Wop-1920-x-10801.jpg
END:VEVENT
BEGIN:VEVENT
CLASS:PUBLIC
UID:MEC-48b6d4a0d14a3507978d5bcd98464149@983thelife.com
DTSTART;TZID=America/Chicago:20240212T110000
DTEND;TZID=America/Chicago:20240212T130000
DTSTAMP:20240212T125234Z
RRULE:FREQ=WEEKLY
CREATED:20240212
LAST-MODIFIED:20240404
PRIORITY:5
SEQUENCE:13
TRANSP:OPAQUE
SUMMARY:Country Matters with Chuck
DESCRIPTION:\n			\n		\n			\n				\n				\n				\n				\n				\n				\n				\n				\n				\n				\n				\n				\n				\n				\n				\n				\n				\n				A Country Music Festival!\n			\n				\n				\n				\n				\n				Charles Kadletc brings you “Country Matters with Chuck” – a weekly showcase of the very best in country hits of today and yesterday. And, from time to time, don’t be surprised if he does some “deep digging” into his trunk to bring some lesser known country jewels!\n			\n			\n				\n				\n				\n				\n			\n				\n				\n					\n	\n	\n			\n		\n		
URL:https://983thelife.com/events/country-matters-with-chuck/
CATEGORIES:Country,Music
ATTACH;FMTTYPE=image/jpeg:https://983thelife.com/wp-content/uploads/2024/02/Country-Music-1920-x10801-e1707766740700.jpg
END:VEVENT
END:VCALENDAR
